BEGIN:VCALENDAR
VERSION:2.0
PRODID:-//USSBC - ECPv6.15.18//NONSGML v1.0//EN
CALSCALE:GREGORIAN
METHOD:PUBLISH
X-WR-CALNAME:USSBC
X-ORIGINAL-URL:https://ussaudi.org
X-WR-CALDESC:Events for USSBC
REFRESH-INTERVAL;VALUE=DURATION:PT1H
X-Robots-Tag:noindex
X-PUBLISHED-TTL:PT1H
BEGIN:VTIMEZONE
TZID:America/New_York
BEGIN:DAYLIGHT
TZOFFSETFROM:-0500
TZOFFSETTO:-0400
TZNAME:EDT
DTSTART:20240310T070000
END:DAYLIGHT
BEGIN:STANDARD
TZOFFSETFROM:-0400
TZOFFSETTO:-0500
TZNAME:EST
DTSTART:20241103T060000
END:STANDARD
BEGIN:DAYLIGHT
TZOFFSETFROM:-0500
TZOFFSETTO:-0400
TZNAME:EDT
DTSTART:20250309T070000
END:DAYLIGHT
BEGIN:STANDARD
TZOFFSETFROM:-0400
TZOFFSETTO:-0500
TZNAME:EST
DTSTART:20251102T060000
END:STANDARD
BEGIN:DAYLIGHT
TZOFFSETFROM:-0500
TZOFFSETTO:-0400
TZNAME:EDT
DTSTART:20260308T070000
END:DAYLIGHT
BEGIN:STANDARD
TZOFFSETFROM:-0400
TZOFFSETTO:-0500
TZNAME:EST
DTSTART:20261101T060000
END:STANDARD
END:VTIMEZONE
BEGIN:VEVENT
DTSTART;VALUE=DATE:20250505
DTEND;VALUE=DATE:20250509
DTSTAMP:20260422T182745
CREATED:20251203T204601Z
LAST-MODIFIED:20251216T164052Z
UID:10000006-1746432000-1746723600@ussaudi.org
SUMMARY:Supported Event: Future Minerals Forum 2026
DESCRIPTION:  \n  \nSupported Event: the 5th Future Minerals Forum 2026\n  \nOn behalf of the Ministry of Industry and Mineral Resources (MIM)\, the U.S.-Saudi Business Council is pleased to you to the 5th edition of the Future Minerals Forum (FMF) – the world’s premier gathering for minerals. The FMF is more than a forum; it is a catalyst for collaboration and innovation\, bringing together top business executives and government representatives\, industry leaders\, and experts to unlock opportunities in mining and minerals as well as corollary sectors.  \n					\n									Apply to Attend the Forum\n					 \nAbout the Forum\n\n20\,000+ Participants from over 160 countries\n1\,000+ Chief Executives\n400+ Speakers\n200+ Exhibitors\n\n  \nhttps://player.vimeo.com/video/1143503768 \n  \nConfirmed international speakers to date include: \n\nBob Wilt\, CEO\, Ma’aden (USSBC Board Member)\nDominic Barton\, Chair\, Rio Tinto\nHelena Hedblom\, President & CEO\, Epiroc AB\nBill Oplinger\, President &CEO\, Alcoa Corporation\nMark Cutifani\, Chairman\, Vale Base Metals\nRobert Friedland\, Founder\, Ivanhoe Mines\, Ivanhoe Electric and I-Pulse\n\n\nMark Bristow\, President & CEO\, Barrick Mining Corporation\nMelissa Sanderson\, Board Member\, American Rare Earths\nDominic Raab\, Head of Global Affairs\, Appian Capital Advisory and former UK Deputy Prime Minister\nMarc Winteroff\, Interim CEO\, Lucid Motors\nKent Masters\, Chairman & CEO\, Albemarle Corporation\n\nFor more information on the FMF\, please visit https://www.futuremineralsforum.com/ \n					\n									Apply to Attend the Forum\n					 \n  \n  \nAbout the U.S.-Saudi Business Council\nThe U.S.-Saudi Business Council plans to hold a high-level networking event on the sidelines of the FMF for U.S. and Saudi companies in Riyadh. \nTo register your interest in attending our event\, please contact Jamil Alothman\, Vice President\, at jalothman@ussaudi.org. \nThe U.S.-Saudi Business Council has participated in every edition of the FMF and has history of a long-term collaboration with MIM and key Saudi stakeholders in the industrial and the mining sectors. \nWe encourage attendees to visit our booth at this year’s Forum: booth #PS01 (floor plan)
URL:https://ussaudi.org/event/supported-event-future-minerals-forum-2026/
LOCATION:King Abdulaziz International Conference Center\, Riyadh\, Saudi Arabia
CATEGORIES:Supported Events
ATTACH;FMTTYPE=image/webp:https://ussaudi.org/wp-content/uploads/2025/12/Future_Minerals_Forum_Logo_square.webp
END:VEVENT
END:VCALENDAR